BEGIN:VCALENDAR
VERSION:2.0
PRODID:-//ChamberMaster//Event Calendar 2.0//EN
METHOD:PUBLISH
X-PUBLISHED-TTL:P3D
REFRESH-INTERVAL:P3D
CALSCALE:GREGORIAN
BEGIN:VEVENT
DTSTART:20120125T150000Z
DTEND:20120125T170000Z
X-MICROSOFT-CDO-ALLDAYEVENT:FALSE
SUMMARY:Ribbon Cutting - Party Lites
DESCRIPTION:Ribbon Cutting - Party Lites
X-ALT-DESC;FMTTYPE=text/html:Ribbon Cutting - Party Lites
LOCATION:The Chamber Office #6 Porter Street
UID:e.363.4187
SEQUENCE:3
DTSTAMP:20260423T235404Z
URL:https://barrowcm.365dtm.com/events/details/ribbon-cutting-party-lites-01-25-2012-4187
END:VEVENT

END:VCALENDAR
