BEGIN:VCALENDAR
VERSION:2.0
PRODID:-//ChamberMaster//Event Calendar 2.0//EN
METHOD:PUBLISH
X-PUBLISHED-TTL:P3D
REFRESH-INTERVAL:P3D
CALSCALE:GREGORIAN
BEGIN:VEVENT
DTSTART:20130410T140000Z
DTEND:20130410T143000Z
X-MICROSOFT-CDO-ALLDAYEVENT:FALSE
SUMMARY:Ribbon Cutting - Perfect Ten Nail and Spa Salon
DESCRIPTION:Ribbon Cutting - Perfect Ten Nail and Spa Salon
X-ALT-DESC;FMTTYPE=text/html:Ribbon Cutting - Perfect Ten Nail and Spa Salon
LOCATION:650 Exchange Cir. - Bethlehem Down from Chick-fil-A
UID:e.363.4863
SEQUENCE:3
DTSTAMP:20260423T011835Z
URL:https://barrowcm.365dtm.com/events/details/ribbon-cutting-perfect-ten-nail-and-spa-salon-04-10-2013-4863
END:VEVENT

END:VCALENDAR
