BEGIN:VCALENDAR
VERSION:2.0
PRODID:-//ChamberMaster//Event Calendar 2.0//EN
METHOD:PUBLISH
X-PUBLISHED-TTL:P3D
REFRESH-INTERVAL:P3D
CALSCALE:GREGORIAN
BEGIN:VEVENT
DTSTART:20130510T153000Z
DTEND:20130510T160000Z
X-MICROSOFT-CDO-ALLDAYEVENT:FALSE
SUMMARY:Ribbon Cutting - Premier Podiatry
DESCRIPTION:Ribbon Cutting - Premier Podiatry
X-ALT-DESC;FMTTYPE=text/html:Ribbon Cutting - Premier Podiatry
LOCATION:656 Exchange Cir. - Bethlehem
UID:e.363.4868
SEQUENCE:3
DTSTAMP:20260422T233447Z
URL:https://barrowcm.365dtm.com/events/details/ribbon-cutting-premier-podiatry-05-10-2013-4868
END:VEVENT

END:VCALENDAR
