BEGIN:VCALENDAR
VERSION:2.0
PRODID:-//ChamberMaster//Event Calendar 2.0//EN
METHOD:PUBLISH
X-PUBLISHED-TTL:P3D
REFRESH-INTERVAL:P3D
CALSCALE:GREGORIAN
BEGIN:VEVENT
DTSTART:20100817T153000Z
DTEND:20100817T163000Z
X-MICROSOFT-CDO-ALLDAYEVENT:FALSE
SUMMARY:Ribbon Cutting- Pulmonary and Sleep Medicine Center & Winder Internal Medicine
DESCRIPTION:Ribbon Cutting:Dr.Rasha Samara - Winder Internal Medicine of Geriatrics Center Dr. Rami Arfoosh - Pulmonary and Sleep Medicine Center of WinderLight Snacks and Refreshments will be served
X-ALT-DESC;FMTTYPE=text/html:<div>Ribbon Cutting:</div><div>Dr.Rasha Samara - Winder Internal Medicine of Geriatrics Center</div><div>&nbsp\;</div><div>Dr. Rami Arfoosh - Pulmonary and Sleep Medicine Center of Winder</div><div><span style="font-family: &quot\;Calibri&quot\;\,&quot\;sans-serif&quot\;\; color: #1f497d\; font-size: 11pt\; mso-fareast-font-family: Calibri\; mso-fareast-theme-font: minor-latin\; mso-bidi-font-family: 'Times New Roman'\; mso-ansi-language: EN-US\; mso-fareast-language: EN-US\; mso-bidi-language: AR-SA">Light Snacks and Refreshments will be served</span></div>
LOCATION:20 Satellite Dr.\, Suite 100 & 200Winder\, Ga
UID:e.363.3577
SEQUENCE:3
DTSTAMP:20260425T001735Z
URL:https://barrowcm.365dtm.com/events/details/ribbon-cutting-pulmonary-and-sleep-medicine-center-winder-internal-medicine-08-17-2010-3577
END:VEVENT

END:VCALENDAR
