BEGIN:VCALENDAR
VERSION:2.0
PRODID:-//ChamberMaster//Event Calendar 2.0//EN
METHOD:PUBLISH
X-PUBLISHED-TTL:P3D
REFRESH-INTERVAL:P3D
CALSCALE:GREGORIAN
BEGIN:VEVENT
DTSTART:20121109T180000Z
DTEND:20121109T183000Z
X-MICROSOFT-CDO-ALLDAYEVENT:FALSE
SUMMARY:Ribbon Cutting - Ransom & Assoc. Nationwide Agency
DESCRIPTION:Ransom & Associates Nationwide Agency grand Opening\,\n\nRibbon Cutting @ 1:00 pm
X-ALT-DESC;FMTTYPE=text/html:Ransom &amp\; Associates Nationwide Agency grand Opening\,<br />\nRibbon Cutting @ 1:00 pm
LOCATION:137 W. Athens Street\, Winder
UID:e.363.4788
SEQUENCE:3
DTSTAMP:20260423T085113Z
URL:https://barrowcm.365dtm.com/events/details/ribbon-cutting-ransom-assoc-nationwide-agency-11-09-2012-4788
END:VEVENT

END:VCALENDAR
