BEGIN:VCALENDAR
VERSION:2.0
PRODID:-//ChamberMaster//Event Calendar 2.0//EN
METHOD:PUBLISH
X-PUBLISHED-TTL:P3D
REFRESH-INTERVAL:P3D
CALSCALE:GREGORIAN
BEGIN:VEVENT
DTSTART:20130116T163000Z
DTEND:20130116T170000Z
X-MICROSOFT-CDO-ALLDAYEVENT:FALSE
SUMMARY:RIbbon Cutting - Redefined Fitness
DESCRIPTION:RIbbon Cutting\n\nRedefined Fitness
X-ALT-DESC;FMTTYPE=text/html:RIbbon Cutting<br />\nRedefined Fitness
LOCATION:814 Tucker Ct. Winder\, Ga
UID:e.363.4814
SEQUENCE:3
DTSTAMP:20260423T054228Z
URL:https://barrowcm.365dtm.com/events/details/ribbon-cutting-redefined-fitness-01-16-2013-4814
END:VEVENT

END:VCALENDAR
