BEGIN:VCALENDAR
VERSION:2.0
PRODID:-//ChamberMaster//Event Calendar 2.0//EN
METHOD:PUBLISH
X-PUBLISHED-TTL:P3D
REFRESH-INTERVAL:P3D
CALSCALE:GREGORIAN
BEGIN:VEVENT
DTSTART:20130508T130000Z
DTEND:20130508T133000Z
X-MICROSOFT-CDO-ALLDAYEVENT:FALSE
SUMMARY:Ribbon Cutting - Roberts Plumbing
DESCRIPTION:Ribbon Cutting - Roberts Plumbing
X-ALT-DESC;FMTTYPE=text/html:Ribbon Cutting - Roberts Plumbing
LOCATION:
UID:e.363.4865
SEQUENCE:3
DTSTAMP:20260422T233526Z
URL:https://barrowcm.365dtm.com/events/details/ribbon-cutting-roberts-plumbing-05-08-2013-4865
END:VEVENT

END:VCALENDAR
