BEGIN:VCALENDAR
VERSION:2.0
PRODID:-//ChamberMaster//Event Calendar 2.0//EN
METHOD:PUBLISH
X-PUBLISHED-TTL:P3D
REFRESH-INTERVAL:P3D
CALSCALE:GREGORIAN
BEGIN:VEVENT
DTSTART:20140606T153000Z
DTEND:20140606T160000Z
X-MICROSOFT-CDO-ALLDAYEVENT:FALSE
SUMMARY:Ribbon Cutting - Salud Y Variedads
DESCRIPTION:Ribbon Cutting - Salud Y Variedads\n\nNatural Products\, Vitamins & Herbs and Cosmetics
X-ALT-DESC;FMTTYPE=text/html:<p>Ribbon Cutting - Salud Y Variedads</p>\n\n<p>Natural Products\, Vitamins &amp\; Herbs and Cosmetics</p>\n
LOCATION:115 B May Street\, WInder
UID:e.363.5431
SEQUENCE:3
DTSTAMP:20260422T003310Z
URL:https://barrowcm.365dtm.com/events/details/ribbon-cutting-salud-y-variedads-06-06-2014-5431
END:VEVENT

END:VCALENDAR
