BEGIN:VCALENDAR
VERSION:2.0
PRODID:-//ChamberMaster//Event Calendar 2.0//EN
METHOD:PUBLISH
X-PUBLISHED-TTL:P3D
REFRESH-INTERVAL:P3D
CALSCALE:GREGORIAN
BEGIN:VEVENT
DTSTART:20170623T140000Z
DTEND:20170623T180000Z
X-MICROSOFT-CDO-ALLDAYEVENT:FALSE
SUMMARY:Ribbon Cutting - Soft Opening Amphitheater
DESCRIPTION:Ribbon Cutting and "Soft Opening" with Tommy Lee Thompson and the Network performing.  They will be playing tunes from Peter Frampton\, Journey\, Styx and many others.
X-ALT-DESC;FMTTYPE=text/html:Ribbon Cutting and &quot\;Soft Opening&quot\; with Tommy Lee Thompson and the Network performing.&nbsp\; They will be playing tunes from Peter Frampton\, Journey\, Styx and many others.&nbsp\;
LOCATION:985 Austin Rd\, the New Amphitheater
UID:e.363.6942
SEQUENCE:3
DTSTAMP:20260419T182348Z
URL:https://barrowcm.365dtm.com/events/details/ribbon-cutting-soft-opening-amphitheater-6942
END:VEVENT

END:VCALENDAR
