BEGIN:VCALENDAR
VERSION:2.0
PRODID:-//ChamberMaster//Event Calendar 2.0//EN
METHOD:PUBLISH
X-PUBLISHED-TTL:P3D
REFRESH-INTERVAL:P3D
CALSCALE:GREGORIAN
BEGIN:VEVENT
DTSTART:20091113T173000Z
DTEND:20091113T180000Z
X-MICROSOFT-CDO-ALLDAYEVENT:FALSE
SUMMARY:Ribbon Cutting - Spine Care & Management
DESCRIPTION:Ribbon Cutting - Spince Care & Management
X-ALT-DESC;FMTTYPE=text/html:<div>Ribbon Cutting - Spince Care &amp\; Management</div>
LOCATION:24 Amherst Dr.\, Winder
UID:e.363.3063
SEQUENCE:3
DTSTAMP:20260425T134430Z
URL:https://barrowcm.365dtm.com/events/details/ribbon-cutting-spine-care-management-11-13-2009-3063
END:VEVENT

END:VCALENDAR
