BEGIN:VCALENDAR
VERSION:2.0
PRODID:-//ChamberMaster//Event Calendar 2.0//EN
METHOD:PUBLISH
X-PUBLISHED-TTL:P3D
REFRESH-INTERVAL:P3D
CALSCALE:GREGORIAN
BEGIN:VEVENT
DTSTART:20110711T210000Z
DTEND:20110711T220000Z
X-MICROSOFT-CDO-ALLDAYEVENT:FALSE
SUMMARY:RIbbon Cutting - Spitfire Resturant
DESCRIPTION:Spitfire Resturant - Ribbon Cutting
X-ALT-DESC;FMTTYPE=text/html:Spitfire Resturant - Ribbon Cutting
LOCATION:Winder Airport 841 Ronald Wood Rd.\, Suite A WInder
UID:e.363.4047
SEQUENCE:3
DTSTAMP:20260424T080732Z
URL:https://barrowcm.365dtm.com/events/details/ribbon-cutting-spitfire-resturant-07-11-2011-4047
END:VEVENT

END:VCALENDAR
