BEGIN:VCALENDAR
VERSION:2.0
PRODID:-//ChamberMaster//Event Calendar 2.0//EN
METHOD:PUBLISH
X-PUBLISHED-TTL:P3D
REFRESH-INTERVAL:P3D
CALSCALE:GREGORIAN
BEGIN:VEVENT
DTSTART:20100615T210000Z
DTEND:20100615T220000Z
X-MICROSOFT-CDO-ALLDAYEVENT:FALSE
SUMMARY:Ribbon Cutting - State Farm Insurance
DESCRIPTION:Ribbon Cutting - State Farm Insurance- Bill Ritter
X-ALT-DESC;FMTTYPE=text/html:Ribbon Cutting - State Farm Insurance- Bill Ritter\n<br>
LOCATION:916 Logonville Hwy\, Suite 160 Bethlehem\, Ga
UID:e.363.3547
SEQUENCE:3
DTSTAMP:20260425T033332Z
URL:https://barrowcm.365dtm.com/events/details/ribbon-cutting-state-farm-insurance-06-15-2010-3547
END:VEVENT

END:VCALENDAR
