BEGIN:VCALENDAR
VERSION:2.0
PRODID:-//ChamberMaster//Event Calendar 2.0//EN
METHOD:PUBLISH
X-PUBLISHED-TTL:P3D
REFRESH-INTERVAL:P3D
CALSCALE:GREGORIAN
BEGIN:VEVENT
DTSTART:20120122T153000Z
DTEND:20120122T050000Z
X-MICROSOFT-CDO-ALLDAYEVENT:FALSE
SUMMARY:Ribbon Cutting - Synergy Church
DESCRIPTION:Grand Opening Worship Experience - Synergy Church\n\n*Children's enviroments are provided for Birth - 5th grade
X-ALT-DESC;FMTTYPE=text/html:Grand Opening Worship Experience - Synergy Church<br />\n*Children&#39\;s enviroments are provided for Birth - 5th grade
LOCATION:Barrow County Park and Rec. Department 175 Second Street\, Winder
UID:e.363.4153
SEQUENCE:3
DTSTAMP:20260423T235656Z
URL:https://barrowcm.365dtm.com/events/details/ribbon-cutting-synergy-church-01-22-2012-4153
END:VEVENT

END:VCALENDAR
