BEGIN:VCALENDAR
VERSION:2.0
PRODID:-//ChamberMaster//Event Calendar 2.0//EN
METHOD:PUBLISH
X-PUBLISHED-TTL:P3D
REFRESH-INTERVAL:P3D
CALSCALE:GREGORIAN
BEGIN:VEVENT
DTSTART:20100720T153000Z
DTEND:20100720T160000Z
X-MICROSOFT-CDO-ALLDAYEVENT:FALSE
SUMMARY:Ribbon Cutting - The Learning Nook
DESCRIPTION:Ribbon Cutting - The Learning Nook
X-ALT-DESC;FMTTYPE=text/html:Ribbon Cutting - The Learning Nook\n<br>
LOCATION:278 Lumpkin Street Winder\, Ga 30680
UID:e.363.3550
SEQUENCE:3
DTSTAMP:20260425T015042Z
URL:https://barrowcm.365dtm.com/events/details/ribbon-cutting-the-learning-nook-07-20-2010-3550
END:VEVENT

END:VCALENDAR
