BEGIN:VCALENDAR
VERSION:2.0
PRODID:-//ChamberMaster//Event Calendar 2.0//EN
METHOD:PUBLISH
X-PUBLISHED-TTL:P3D
REFRESH-INTERVAL:P3D
CALSCALE:GREGORIAN
BEGIN:VEVENT
DTSTART:20151023T153000Z
DTEND:20151023T160000Z
X-MICROSOFT-CDO-ALLDAYEVENT:FALSE
SUMMARY:Ribbon Cutting - The UPS Store
DESCRIPTION:Ribbon Cutting at The UPS Store
X-ALT-DESC;FMTTYPE=text/html:Ribbon Cutting at The UPS Store
LOCATION:
UID:e.363.5828
SEQUENCE:3
DTSTAMP:20260420T232843Z
URL:https://barrowcm.365dtm.com/events/details/ribbon-cutting-the-ups-store-10-23-2015-5828
END:VEVENT

END:VCALENDAR
