BEGIN:VCALENDAR
VERSION:2.0
PRODID:-//ChamberMaster//Event Calendar 2.0//EN
METHOD:PUBLISH
X-PUBLISHED-TTL:P3D
REFRESH-INTERVAL:P3D
CALSCALE:GREGORIAN
BEGIN:VEVENT
DTSTART:20110713T163000Z
DTEND:20110713T173000Z
X-MICROSOFT-CDO-ALLDAYEVENT:FALSE
SUMMARY:Ribbon Cutting - Thousand Petals Message and Wellness
DESCRIPTION:Thousand Petals Message and Wellness - Ribbon Cutting
X-ALT-DESC;FMTTYPE=text/html:Thousand Petals Message and Wellness - Ribbon Cutting
LOCATION:181 E. Broad Street\, Winder
UID:e.363.4048
SEQUENCE:3
DTSTAMP:20260424T080645Z
URL:https://barrowcm.365dtm.com/events/details/ribbon-cutting-thousand-petals-message-and-wellness-07-13-2011-4048
END:VEVENT

END:VCALENDAR
