BEGIN:VCALENDAR
VERSION:2.0
PRODID:-//ChamberMaster//Event Calendar 2.0//EN
METHOD:PUBLISH
X-PUBLISHED-TTL:P3D
REFRESH-INTERVAL:P3D
CALSCALE:GREGORIAN
BEGIN:VEVENT
DTSTART:20101215T200000Z
DTEND:20101215T210000Z
X-MICROSOFT-CDO-ALLDAYEVENT:FALSE
SUMMARY:Ribbon Cutting - Timeless Treasures
DESCRIPTION:Ribbon Cutting - Timeless Treasures
X-ALT-DESC;FMTTYPE=text/html:Ribbon Cutting - Timeless Treasures
LOCATION:133-C West Athens Street Winder
UID:e.363.3652
SEQUENCE:3
DTSTAMP:20260424T182533Z
URL:https://barrowcm.365dtm.com/events/details/ribbon-cutting-timeless-treasures-12-15-2010-3652
END:VEVENT

END:VCALENDAR
