BEGIN:VCALENDAR
VERSION:2.0
PRODID:-//ChamberMaster//Event Calendar 2.0//EN
METHOD:PUBLISH
X-PUBLISHED-TTL:P3D
REFRESH-INTERVAL:P3D
CALSCALE:GREGORIAN
BEGIN:VEVENT
DTSTART:20120224T163000Z
DTEND:20120224T170000Z
X-MICROSOFT-CDO-ALLDAYEVENT:FALSE
SUMMARY:Ribbon Cutting - Touax Modular
DESCRIPTION:Ribbon Cutting - Touax Modular
X-ALT-DESC;FMTTYPE=text/html:Ribbon Cutting - Touax Modular
LOCATION:695 Atlanta Hwy\, SE Winder\, Ga
UID:e.363.4219
SEQUENCE:3
DTSTAMP:20260423T222417Z
URL:https://barrowcm.365dtm.com/events/details/ribbon-cutting-touax-modular-02-24-2012-4219
END:VEVENT

END:VCALENDAR
