BEGIN:VCALENDAR
VERSION:2.0
PRODID:-//ChamberMaster//Event Calendar 2.0//EN
METHOD:PUBLISH
X-PUBLISHED-TTL:P3D
REFRESH-INTERVAL:P3D
CALSCALE:GREGORIAN
BEGIN:VEVENT
DTSTART:20100617T163000Z
DTEND:20100617T170000Z
X-MICROSOFT-CDO-ALLDAYEVENT:FALSE
SUMMARY:Ribbon Cutting - Trigger Point Therapy of GA
DESCRIPTION:Ribbon Cutting - Trigger Point Therapy of GA
X-ALT-DESC;FMTTYPE=text/html:Ribbon Cutting - Trigger Point Therapy of GA\n<br>
LOCATION:345 Resource Pkwy\, Winder
UID:e.363.3545
SEQUENCE:3
DTSTAMP:20260425T033318Z
URL:https://barrowcm.365dtm.com/events/details/ribbon-cutting-trigger-point-therapy-of-ga-06-17-2010-3545
END:VEVENT

END:VCALENDAR
