BEGIN:VCALENDAR
VERSION:2.0
PRODID:-//ChamberMaster//Event Calendar 2.0//EN
METHOD:PUBLISH
X-PUBLISHED-TTL:P3D
REFRESH-INTERVAL:P3D
CALSCALE:GREGORIAN
BEGIN:VEVENT
DTSTART;VALUE=DATE:20150305
DTEND;VALUE=DATE:20150306
TRANSP:TRANSPARENT
X-MICROSOFT-CDO-ALLDAYEVENT:TRUE
SUMMARY:Ribbon Cutting - U.S. Renal Care
DESCRIPTION:Ribbon Cutting\n\nU.S. Renal Care
X-ALT-DESC;FMTTYPE=text/html:Ribbon Cutting<br />\nU.S. Renal Care
LOCATION:429 Loganville Hwy (Right behind Turtle Creek Liquor Store) Winder\, Ga
UID:e.363.5491
SEQUENCE:3
DTSTAMP:20260421T105807Z
URL:https://barrowcm.365dtm.com/events/details/ribbon-cutting-u-s-renal-care-03-05-2015-5491
END:VEVENT

END:VCALENDAR
