BEGIN:VCALENDAR
VERSION:2.0
PRODID:-//ChamberMaster//Event Calendar 2.0//EN
METHOD:PUBLISH
X-PUBLISHED-TTL:P3D
REFRESH-INTERVAL:P3D
CALSCALE:GREGORIAN
BEGIN:VEVENT
DTSTART:20100610T163000Z
DTEND:20100610T170000Z
X-MICROSOFT-CDO-ALLDAYEVENT:FALSE
SUMMARY:Ribbon Cutting - United Home Health Care
DESCRIPTION:Ribbon Cutting United Home Health Care
X-ALT-DESC;FMTTYPE=text/html:Ribbon Cutting United Home Health Care\n<br>
LOCATION:349 Resource Pkwy Winder\, GA 30680
UID:e.363.3548
SEQUENCE:3
DTSTAMP:20260425T033646Z
URL:https://barrowcm.365dtm.com/events/details/ribbon-cutting-united-home-health-care-06-10-2010-3548
END:VEVENT

END:VCALENDAR
