BEGIN:VCALENDAR
VERSION:2.0
PRODID:-//ChamberMaster//Event Calendar 2.0//EN
METHOD:PUBLISH
X-PUBLISHED-TTL:P3D
REFRESH-INTERVAL:P3D
CALSCALE:GREGORIAN
BEGIN:VEVENT
DTSTART:20100729T153000Z
DTEND:20100729T160000Z
X-MICROSOFT-CDO-ALLDAYEVENT:FALSE
SUMMARY:Ribbon Cutting - V's Caribbean Curry Pot
DESCRIPTION:Ribbon Cutting\n\nV's Caribbean Curry Pot
X-ALT-DESC;FMTTYPE=text/html:Ribbon Cutting\n<br>V's Caribbean Curry Pot\n<br>
LOCATION:64 May Street Winder\, GA 30680
UID:e.363.3569
SEQUENCE:3
DTSTAMP:20260425T015214Z
URL:https://barrowcm.365dtm.com/events/details/ribbon-cutting-v-s-caribbean-curry-pot-07-29-2010-3569
END:VEVENT

END:VCALENDAR
