BEGIN:VCALENDAR
VERSION:2.0
PRODID:-//ChamberMaster//Event Calendar 2.0//EN
METHOD:PUBLISH
X-PUBLISHED-TTL:P3D
REFRESH-INTERVAL:P3D
CALSCALE:GREGORIAN
BEGIN:VEVENT
DTSTART:20091112T163000Z
DTEND:20091112T170000Z
X-MICROSOFT-CDO-ALLDAYEVENT:FALSE
SUMMARY:Ribbon Cutting - Walgreens
DESCRIPTION:Ribbon Cutting - Walgreens
X-ALT-DESC;FMTTYPE=text/html:Ribbon Cutting - Walgreens\n
LOCATION:10 East May Street\, Winder
UID:e.363.3062
SEQUENCE:3
DTSTAMP:20260425T135918Z
URL:https://barrowcm.365dtm.com/events/details/ribbon-cutting-walgreens-11-12-2009-3062
END:VEVENT

END:VCALENDAR
