BEGIN:VCALENDAR
VERSION:2.0
PRODID:-//ChamberMaster//Event Calendar 2.0//EN
METHOD:PUBLISH
X-PUBLISHED-TTL:P3D
REFRESH-INTERVAL:P3D
CALSCALE:GREGORIAN
BEGIN:VEVENT
DTSTART:20110413T140000Z
DTEND:20110413T143000Z
X-MICROSOFT-CDO-ALLDAYEVENT:FALSE
SUMMARY:Ribbon Cutting - Westbrook Family Academy
DESCRIPTION:Ribbon Cutting - Westbrook Family Academy
X-ALT-DESC;FMTTYPE=text/html:Ribbon Cutting - Westbrook Family Academy
LOCATION:138 Park Ave.
UID:e.363.3708
SEQUENCE:3
DTSTAMP:20260424T121853Z
URL:https://barrowcm.365dtm.com/events/details/ribbon-cutting-westbrook-family-academy-04-13-2011-3708
END:VEVENT

END:VCALENDAR
