BEGIN:VCALENDAR
VERSION:2.0
PRODID:-//ChamberMaster//Event Calendar 2.0//EN
METHOD:PUBLISH
X-PUBLISHED-TTL:P3D
REFRESH-INTERVAL:P3D
CALSCALE:GREGORIAN
BEGIN:VEVENT
DTSTART:20170407T153000Z
DTEND:20170407T160000Z
X-MICROSOFT-CDO-ALLDAYEVENT:FALSE
SUMMARY:Ribbon Cuttng -Masterpiece Mixers Paint/Party Studio
DESCRIPTION:Masterpiece Mixers Ribbon Cutting
X-ALT-DESC;FMTTYPE=text/html:Masterpiece Mixers Ribbon Cutting
LOCATION:799 Christmas Ave Bethlehem\, Ga.
UID:e.363.6933
SEQUENCE:3
DTSTAMP:20260419T201041Z
URL:https://barrowcm.365dtm.com/events/details/ribbon-cuttng-masterpiece-mixers-paint-party-studio-6933
END:VEVENT

END:VCALENDAR
