BEGIN:VCALENDAR
VERSION:2.0
PRODID:-//ChamberMaster//Event Calendar 2.0//EN
METHOD:PUBLISH
X-PUBLISHED-TTL:P3D
REFRESH-INTERVAL:P3D
CALSCALE:GREGORIAN
BEGIN:VEVENT
DTSTART:20101211T140000Z
DTEND:20101211T170000Z
X-MICROSOFT-CDO-ALLDAYEVENT:FALSE
SUMMARY:Santa Shuffle 5K Trail Run/Walk
DESCRIPTION:The Walton Barrow Board of REALTORS will be sponsoring The Santa Shuffle 5K Trail Run/Walk to benefit Shop with a Cop in Barrow and Walton Counties.  Please make plans to attend or to sponsor!
X-ALT-DESC;FMTTYPE=text/html:The Walton Barrow Board of REALTORS will be sponsoring The Santa Shuffle 5K Trail Run/Walk to benefit Shop with a Cop in Barrow and Walton Counties.  Please make plans to attend or to sponsor!
LOCATION:Fort Yargo State Park
UID:e.363.3583
SEQUENCE:3
DTSTAMP:20260424T182547Z
URL:https://barrowcm.365dtm.com/events/details/santa-shuffle-5k-trail-run-walk-12-11-2010-3583
END:VEVENT

END:VCALENDAR
