BEGIN:VCALENDAR
VERSION:2.0
PRODID:-//ChamberMaster//Event Calendar 2.0//EN
METHOD:PUBLISH
X-PUBLISHED-TTL:P3D
REFRESH-INTERVAL:P3D
CALSCALE:GREGORIAN
BEGIN:VEVENT
DTSTART:20140626T133000Z
DTEND:20140626T170000Z
X-MICROSOFT-CDO-ALLDAYEVENT:FALSE
SUMMARY:SEMINAR:?Build Your Marketing Toolkit? & ?Simple Strategies-Social Media"
DESCRIPTION:Two for the price of one! Back to back free workshops for businesses and nonprofits starting with building a foundation for your marketing campaigns (9:30am-10:30am) then continuing with simple strategies for social media marketing (10:45am-1:00pm). Co-hosted by Constant Contact and the Banks County Chamber of Commerce/CVB. Lunch provided. Pre-registration required.  Checkin and networking from 9:00am to 9:30am.  Register at http://tiny.cc/banksccjune\n\n \nThe first of the two presentations focuses on building a marketing toolkit.  Many small businesses and organizations find themselves seeking the right strategies to make their marketing efforts as effective as possible.  But with so many different marketing activities that they could focus on\, they often miss some of the important marketing concepts that will help them understand why those activities are so important. This presentation is designed to uncover some of those core concepts and show that a little bit of marketing knowledge can go a long way. \n\nYou will learn:\n\n\n	What marketing really is (and isn't).\n	How marketing has changed in ways that benefit small businesses.\n	The importance of setting goals and objectives for their marketing efforts.\n	The 4 Pillars or Marketing Success   a framework that shows how different marketing activities all fit together\, and will help small businesses reflect on their own marketing program.\n	It's ok to start small\, to start where you already are.\n\n\nThe second presentation focuses on using social media to market your business.  Have you been thinking about marketing your business with social media\, but you feel overwhelmed and not sure how to get started? Or maybe you're not convinced that it works? This webinar will show you the value of using social media to reach your customers\, how it can lead to new customers and how it drives repeat business from your current customers. We'll take a look at the 5 most popular social media networks   Facebook\, Twitter\, LinkedIn\, Google+ and Pinterest   and help you decide what is right for your business.\n\nWe'll also look at what comes next: how and what to post on social media.\n\nJoin us and start to build a foundation of marketing and social media knowledge from which you can build more campaigns -- and more effective campaigns -- to help your business or organization grow.\n\nRegister at http://tiny.cc/banksccjune
X-ALT-DESC;FMTTYPE=text/html:<span style="color: rgb(85\, 85\, 85)\; font-family: Calibri\, Helvetica\, Arial\, sans-serif\; font-size: 14px\; line-height: 20.299999237060547px\;">Two for the price of one! Back to back free workshops for businesses and nonprofits starting with building a foundation for your marketing campaigns (9:30am-10:30am) then continuing with simple strategies for social media marketing (10:45am-1:00pm). Co-hosted by Constant Contact and the Banks County Chamber of Commerce/CVB. Lunch provided. Pre-registration required. &nbsp\;Checkin and networking from 9:00am to 9:30am. &nbsp\;Register at <a href="http://tiny.cc/banksccjune" target="_blank">http://tiny.cc/banksccjune</a></span><br />\n&nbsp\;\n<p style="margin: 0px 0px 18px\; padding: 0px\; color: rgb(85\, 85\, 85)\; font-family: Calibri\, Helvetica\, Arial\, sans-serif\; font-size: 14px\; line-height: 20.299999237060547px\;"><strong>The first</strong>&nbsp\;of the two presentations focuses on building a marketing toolkit. &nbsp\;Many small businesses and organizations find themselves seeking the right strategies to make their marketing efforts as effective as possible. &nbsp\;But with so many different marketing&nbsp\;<i>activities&nbsp\;</i>that they could focus on\, they often miss some of the important marketing concepts that will help them understand why those activities are so important. This presentation is designed to uncover some of those core concepts and show that a little bit of marketing knowledge can go a long way.<span style="line-height: 1.45\;" title="">&nbsp\;</span></p>\n\n<p style="margin: 0px 0px 18px\; padding: 0px\; color: rgb(85\, 85\, 85)\; font-family: Calibri\, Helvetica\, Arial\, sans-serif\; font-size: 14px\; line-height: 20.299999237060547px\;"><span style="line-height: 1.45\;" title="">You will learn:</span></p>\n\n<ul style="margin: 18px 0px 18px 18px\; padding-right: 0px\; padding-left: 0px\; list-style-position: outside\; list-style-image: initial\; color: rgb(85\, 85\, 85)\; font-family: Calibri\, Helvetica\, Arial\, sans-serif\; font-size: 14px\; line-height: 20.299999237060547px\;">\n	<li style="margin: 0px\; padding: 0px\;">What marketing really is (and isn&rsquo\;t).</li>\n	<li style="margin: 0px\; padding: 0px\;">How marketing has changed in ways that benefit small businesses.</li>\n	<li style="margin: 0px\; padding: 0px\;">The importance of setting goals and objectives for their marketing efforts.</li>\n	<li style="margin: 0px\; padding: 0px\;"><span style="line-height: 1.45\;" title="">The 4 Pillars or Marketing Success &ndash\; a framework that shows how different marketing activities all fit together\, and will help small businesses reflect on their own marketing program.</span></li>\n	<li style="margin: 0px\; padding: 0px\;"><span style="line-height: 1.45\;" title="">It&rsquo\;s ok to start small\, to start where you already are.</span></li>\n</ul>\n\n<p style="margin: 0px 0px 18px\; padding: 0px\; color: rgb(85\, 85\, 85)\; font-family: Calibri\, Helvetica\, Arial\, sans-serif\; font-size: 14px\; line-height: 20.299999237060547px\;"><span style="line-height: 1.45\;" title=""><strong>The second</strong>&nbsp\;presentation focuses on using social media to market your business. &nbsp\;</span><span style="line-height: 1.45\;" title="">Have you been thinking about marketing your business with social media\, but you feel overwhelmed and not sure how to get started? Or maybe you&rsquo\;re not convinced that it works? This webinar will show you the value of using social media to reach your customers\, how it can lead to new customers and how it drives repeat business from your current customers. We&rsquo\;ll take a look at the 5 most popular social media networks &ndash\; Facebook\, Twitter\, LinkedIn\, Google+ and Pinterest &ndash\; and help you decide what is right for your business.</span></p>\n\n<p style="margin: 0px 0px 18px\; padding: 0px\; color: rgb(85\, 85\, 85)\; font-family: Calibri\, Helvetica\, Arial\, sans-serif\; font-size: 14px\; line-height: 20.299999237060547px\;">We&rsquo\;ll also look at what comes next: how and what to post on social media.</p>\n\n<p style="margin: 0px 0px 18px\; padding: 0px\; color: rgb(85\, 85\, 85)\; font-family: Calibri\, Helvetica\, Arial\, sans-serif\; font-size: 14px\; line-height: 20.299999237060547px\;"><strong>Join us</strong>&nbsp\;and start to build a foundation of marketing and social media knowledge from which you can build more campaigns -- and more effective campaigns -- to help your business or organization grow.</p>\n\n<p style="margin: 0px 0px 18px\; padding: 0px\; color: rgb(85\, 85\, 85)\; font-family: Calibri\, Helvetica\, Arial\, sans-serif\; font-size: 14px\; line-height: 20.299999237060547px\; text-align: center\;"><span style="font-size:24px\;"><strong>Register at&nbsp\;<a href="http://tiny.cc/banksccjune" target="_blank">http://tiny.cc/banksccjune</a></strong></span></p>\n
LOCATION:Banks County Adult Learning Center / Lanier Technical College
UID:e.363.5440
SEQUENCE:3
DTSTAMP:20260422T003029Z
URL:https://barrowcm.365dtm.com/events/details/seminar-build-your-marketing-toolkit-simple-strategies-social-media-06-26-2014-5440
END:VEVENT

END:VCALENDAR
