BEGIN:VCALENDAR
VERSION:2.0
PRODID:-//ChamberMaster//Event Calendar 2.0//EN
METHOD:PUBLISH
X-PUBLISHED-TTL:P3D
REFRESH-INTERVAL:P3D
CALSCALE:GREGORIAN
BEGIN:VEVENT
DTSTART:20150226T233000Z
DTEND:20150227T003000Z
X-MICROSOFT-CDO-ALLDAYEVENT:FALSE
SUMMARY:Seminar on Social Security At Mganolia
DESCRIPTION:Free Seminar concerning "Social Secuity and your financial Future"
X-ALT-DESC;FMTTYPE=text/html:Free Seminar concerning &quot\;Social Secuity and your financial Future&quot\;
LOCATION:Magnolia Estates 624 Gainesville Hwy Winder\, Ga.
UID:e.363.5487
SEQUENCE:3
DTSTAMP:20260421T123723Z
URL:https://barrowcm.365dtm.com/events/details/seminar-on-social-security-at-mganolia-02-26-2015-5487
END:VEVENT

END:VCALENDAR
