BEGIN:VCALENDAR
VERSION:2.0
PRODID:-//ChamberMaster//Event Calendar 2.0//EN
METHOD:PUBLISH
X-PUBLISHED-TTL:P3D
REFRESH-INTERVAL:P3D
CALSCALE:GREGORIAN
BEGIN:VEVENT
DTSTART;VALUE=DATE:20090416
DTEND;VALUE=DATE:20090426
TRANSP:TRANSPARENT
X-MICROSOFT-CDO-ALLDAYEVENT:TRUE
SUMMARY:Snodon Village Spring Spectcular
DESCRIPTION:Snodon Village Spring Spectcular 133 West Athens Street Winder Georgia A festival to celebrate Snodon Village and Winders heritage. Johnny's Pizza\, Mexicali Grill\, TCR Staffing\, Studio One\, Fidleity Bank and Hills Supply.  Native American Story Telling\, Craft demostrations\, Fingerprint Kids for Safety\, Dixie Cruiser Antique Car Show\, Winder Fire Dept Antique Fire Engine\,Sparky the Fire Dog\, Courageous the Lion\, coloring for the small kids\, Art Contest and Essay Contes for grades 3-8th see rules@ www.bigstickradio.com.(Cash prizes) Local Radio Station WIMO will Broadcast Live!  Live Entertainment & Lots of prizes to be given away. Grand Prize Gatlinburg GET-A Way\, 2 nights in 2 br Gatlinburg Towers Condo
X-ALT-DESC;FMTTYPE=text/html:Snodon Village Spring Spectcular 133 West Athens Street Winder Georgia A festival to celebrate Snodon Village and Winders heritage. Johnny's Pizza\, Mexicali Grill\, TCR Staffing\, Studio One\, Fidleity Bank and Hills Supply.  Native American Story Telling\, Craft demostrations\, Fingerprint Kids for Safety\, Dixie Cruiser Antique Car Show\, Winder Fire Dept Antique Fire Engine\,Sparky the Fire Dog\, Courageous the Lion\, coloring for the small kids\, Art Contest and Essay Contes for grades 3-8th see rules@ www.bigstickradio.com.(Cash prizes) Local Radio Station WIMO will Broadcast Live!  Live Entertainment & Lots of prizes to be given away. Grand Prize Gatlinburg GET-A Way\, 2 nights in 2 br Gatlinburg Towers Condo
LOCATION:Snodon Village Business Center 133 West Athens Street Winder Georgia
UID:e.363.2703
SEQUENCE:3
DTSTAMP:20260426T011846Z
URL:https://barrowcm.365dtm.com/events/details/snodon-village-spring-spectcular-04-16-2009-2703
END:VEVENT

END:VCALENDAR
