BEGIN:VCALENDAR
VERSION:2.0
PRODID:-//ChamberMaster//Event Calendar 2.0//EN
METHOD:PUBLISH
X-PUBLISHED-TTL:P3D
REFRESH-INTERVAL:P3D
CALSCALE:GREGORIAN
BEGIN:VEVENT
DTSTART:20091128T213000Z
DTEND:20091129T010000Z
X-MICROSOFT-CDO-ALLDAYEVENT:FALSE
SUMMARY:''Sounding Off the Christmas Season''
DESCRIPTION:Come and be a part of the celebration to kick-off\nthe Christmas season in downtown Auburn on November 28\, 2009. \nR.H. Burel Park will glow with Christmas lights. Bring your family to have pictures taken with\nSanta\, listen to Christmas carolers\, and shop the Christmas bazaar. \nCaroling and Shopping until 8:00 P.M. \n4:30-5:00 P.M. - Re-dedication of R.H. Burel Park \n5:00-6:00 P.M. - Parade & Pictures with Santa \n6:00 P.M. - Lighting of Downtown Auburn and Caroling \n6:30-8:00 P.M. - Santa pictures con?t.
X-ALT-DESC;FMTTYPE=text/html:Come and be a part of the celebration to kick-off\nthe Christmas season in downtown Auburn on November 28\, 2009. \nR.H. Burel Park will glow with Christmas lights. Bring your family to have pictures taken with\nSanta\, listen to Christmas carolers\, and shop the Christmas bazaar. \nCaroling and Shopping until 8:00 P.M. \n4:30-5:00 P.M. - Re-dedication of R.H. Burel Park \n5:00-6:00 P.M. - Parade & Pictures with Santa \n6:00 P.M. - Lighting of Downtown Auburn and Caroling \n6:30-8:00 P.M. - Santa pictures con?t.\n
LOCATION:1369 Fourth Avenue Downtown Auburn
UID:e.363.3059
SEQUENCE:3
DTSTAMP:20260425T134339Z
URL:https://barrowcm.365dtm.com/events/details/sounding-off-the-christmas-season-11-28-2009-3059
END:VEVENT

END:VCALENDAR
