BEGIN:VCALENDAR
VERSION:2.0
PRODID:-//ChamberMaster//Event Calendar 2.0//EN
METHOD:PUBLISH
X-PUBLISHED-TTL:P3D
REFRESH-INTERVAL:P3D
CALSCALE:GREGORIAN
BEGIN:VEVENT
DTSTART:20151028T200000Z
DTEND:20151029T030000Z
X-MICROSOFT-CDO-ALLDAYEVENT:FALSE
SUMMARY:Spooktacular Carnival
DESCRIPTION:Spooktacular Carnival\n\n	Wednesday (10/28) through Friday (10/30) from 4:00 p.m. to 11:00 p.m. \n	Saturday (10/31) from 12:00 p.m. noon to 11:00 p.m. \n	Sunday (11/1) from 12:00 p.m. noon to 8:00 p.m.
X-ALT-DESC;FMTTYPE=text/html:Spooktacular Carnival\n<ul>\n	<li><span style="font-family:arial\,sans-serif">Wednesday (10/28) through Friday (10/30) from 4:00 p.m. to 11:00 p.m. </span></li>\n	<li><span style="font-family:arial\,sans-serif">Saturday (10/31) from 12:00 p.m. noon to 11:00 p.m. </span></li>\n	<li><span style="font-family:arial\,sans-serif">Sunday (11/1) from 12:00 p.m. noon to 8:00 p.m.</span></li>\n</ul>\n
LOCATION:Jug Tavern Park
UID:e.363.5804
SEQUENCE:3
DTSTAMP:20260420T232600Z
URL:https://barrowcm.365dtm.com/events/details/spooktacular-carnival-10-28-2015-5804
END:VEVENT

END:VCALENDAR
