BEGIN:VCALENDAR
VERSION:2.0
PRODID:-//ChamberMaster//Event Calendar 2.0//EN
METHOD:PUBLISH
X-PUBLISHED-TTL:P3D
REFRESH-INTERVAL:P3D
CALSCALE:GREGORIAN
BEGIN:VEVENT
DTSTART:20160928T123000Z
DTEND:20160928T163000Z
X-MICROSOFT-CDO-ALLDAYEVENT:FALSE
SUMMARY:Sporting Clay Tourament
DESCRIPTION:Sporting Clay Tournament\n\nSponsored by First American Bank
X-ALT-DESC;FMTTYPE=text/html:Sporting Clay Tournament<br />\nSponsored by First American Bank
LOCATION:
UID:e.363.5875
SEQUENCE:3
DTSTAMP:20260420T063817Z
URL:https://barrowcm.365dtm.com/events/details/sporting-clay-tourament-09-28-2016-5875
END:VEVENT

END:VCALENDAR
