BEGIN:VCALENDAR
VERSION:2.0
PRODID:-//ChamberMaster//Event Calendar 2.0//EN
METHOD:PUBLISH
X-PUBLISHED-TTL:P3D
REFRESH-INTERVAL:P3D
CALSCALE:GREGORIAN
BEGIN:VEVENT
DTSTART:20141008T150000Z
DTEND:20141008T200000Z
X-MICROSOFT-CDO-ALLDAYEVENT:FALSE
SUMMARY:Sporting Clay Tournament
DESCRIPTION:Sporting Clay Tournament - First American Sponsor
X-ALT-DESC;FMTTYPE=text/html:Sporting Clay Tournament - First American Sponsor
LOCATION:Etowah - Dawsonville\, Ga.
UID:e.363.5438
SEQUENCE:3
DTSTAMP:20260421T184022Z
URL:https://barrowcm.365dtm.com/events/details/sporting-clay-tournament-10-08-2014-5438
END:VEVENT

END:VCALENDAR
