BEGIN:VCALENDAR
VERSION:2.0
PRODID:-//ChamberMaster//Event Calendar 2.0//EN
METHOD:PUBLISH
X-PUBLISHED-TTL:P3D
REFRESH-INTERVAL:P3D
CALSCALE:GREGORIAN
BEGIN:VEVENT
DTSTART:20121010T030000Z
DTEND:20121009T200000Z
X-MICROSOFT-CDO-ALLDAYEVENT:FALSE
SUMMARY:Sporting Clay Tournament
DESCRIPTION:Sporting Clay Tournament Sponsored by: First American Bank & Trust
X-ALT-DESC;FMTTYPE=text/html:Sporting Clay Tournament Sponsored by: First American Bank &amp\; Trust
LOCATION:Etowah Valley Sporting Club Dawsonville\, Ga
UID:e.363.4558
SEQUENCE:3
DTSTAMP:20260423T101507Z
URL:https://barrowcm.365dtm.com/events/details/sporting-clay-tournament-10-09-2012-4558
END:VEVENT

END:VCALENDAR
