BEGIN:VCALENDAR
VERSION:2.0
PRODID:-//ChamberMaster//Event Calendar 2.0//EN
METHOD:PUBLISH
X-PUBLISHED-TTL:P3D
REFRESH-INTERVAL:P3D
CALSCALE:GREGORIAN
BEGIN:VEVENT
DTSTART:20120614T223000Z
DTEND:20120615T003000Z
X-MICROSOFT-CDO-ALLDAYEVENT:FALSE
SUMMARY:Spring Meeting
DESCRIPTION:Why was Fort Yargo built?  come learnmore about the early days of the settlement that grew into Barrow County at the Barrow County Historical Society Spring Meeting.  The speaker is Dr. Jim D'Angelo--Archaeologist and adviser to the Georgia Archaeological Research Center.  Thursday\, June 14 at the First Christian Church. Dinner catered by The Master's Table.   Stop by the Museum--74 West Athens Street in Winder or  e-mail bchistorical@gmail.com for more information.
X-ALT-DESC;FMTTYPE=text/html:Why was Fort Yargo built?&nbsp\; come learnmore about the early days of&nbsp\;the settlement that grew into Barrow County&nbsp\;at the Barrow County Historical Society Spring Meeting.&nbsp\; The speaker is Dr. Jim D&#39\;Angelo--Archaeologist and adviser to the Georgia Archaeological Research Center.&nbsp\; Thursday\, June 14 at the First Christian Church.&nbsp\;Dinner catered by The Master&#39\;s Table.&nbsp\; &nbsp\;Stop by the Museum--74 West Athens Street in Winder or &nbsp\;e-mail <a href="mailto:bchistorical@gmail.com">bchistorical@gmail.com</a> for more information.
LOCATION:First Christian Church\, Winder\, GA
UID:e.363.4501
SEQUENCE:3
DTSTAMP:20260423T162108Z
URL:https://barrowcm.365dtm.com/events/details/spring-meeting-06-14-2012-4501
END:VEVENT

END:VCALENDAR
