BEGIN:VCALENDAR
VERSION:2.0
PRODID:-//ChamberMaster//Event Calendar 2.0//EN
METHOD:PUBLISH
X-PUBLISHED-TTL:P3D
REFRESH-INTERVAL:P3D
CALSCALE:GREGORIAN
BEGIN:VEVENT
DTSTART:20110515T143000Z
DTEND:20110515T173000Z
X-MICROSOFT-CDO-ALLDAYEVENT:FALSE
SUMMARY:Spring Tour of Homes and Outdoor Living
DESCRIPTION:The Georgia Club Foundation welcomes guests to The Georgia Club for its Inaugural Spring Tour of Homes and Outdoor Living on Sunday\, May 15. Visitors will have the opportunity to tour some of the golf community?s beautiful personal residences\, which will highlight the joy of outdoor living through gardens\, pools\, courtyards and the lush golf course. Guests can expect to be enchanted by the detail\, creativity and grandeur of homes on the tour\, as our residents take great pride in the aesthetic and functionality of both their indoor and outdoor living spaces. \n\n\n\nProceeds from the tour will benefit several local charities and service organizations.  Beneficiaries include Peace Place\, Extra Special People\, the Tree House\, Partners in Education Fund (Bethlehem Elementary\, Haymon-Morris Middle\, Rocky Branch Elementary and Malcolm Bridge Middle)\, local High School scholarship funds and The Georgia Club Foundation.
X-ALT-DESC;FMTTYPE=text/html:The Georgia Club Foundation welcomes guests to The Georgia Club for its Inaugural Spring Tour of Homes and Outdoor Living on Sunday\, May 15. Visitors will have the opportunity to tour some of the golf community?s beautiful personal residences\, which will highlight the joy of outdoor living through gardens\, pools\, courtyards and the lush golf course. Guests can expect to be enchanted by the detail\, creativity and grandeur of homes on the tour\, as our residents take great pride in the aesthetic and functionality of both their indoor and outdoor living spaces. \n<br>\n<br>Proceeds from the tour will benefit several local charities and service organizations.  Beneficiaries include Peace Place\, Extra Special People\, the Tree House\, Partners in Education Fund (Bethlehem Elementary\, Haymon-Morris Middle\, Rocky Branch Elementary and Malcolm Bridge Middle)\, local High School scholarship funds and The Georgia Club Foundation. \n<br>
LOCATION:The Georgia Club 1050 Chancellors Dr. Statham\, GA 30666
UID:e.363.4017
SEQUENCE:3
DTSTAMP:20260424T105428Z
URL:https://barrowcm.365dtm.com/events/details/spring-tour-of-homes-and-outdoor-living-05-15-2011-4017
END:VEVENT

END:VCALENDAR
