BEGIN:VCALENDAR
VERSION:2.0
PRODID:-//ChamberMaster//Event Calendar 2.0//EN
METHOD:PUBLISH
X-PUBLISHED-TTL:P3D
REFRESH-INTERVAL:P3D
CALSCALE:GREGORIAN
BEGIN:VEVENT
DTSTART:20090404T160000Z
DTEND:20090404T200000Z
X-MICROSOFT-CDO-ALLDAYEVENT:FALSE
SUMMARY:Springfest & Egg Hut
DESCRIPTION:YOU ARE INVITED to the City of Auburn?s\n2nd Annual SPRINGFEST and EGG HUNT\nJames Shackelford Memorial Park ? Browns Bridge Road\n\nAge 12 and under\n\nSaturday\, April 4\, 2009 ? Raindate April 11th \n\n10\,000 Eggs will be hidden !!!\n\n\nParking at the Old Ingles in Auburn (no vehicles at Park)\nShuttle Buses begin running at 12:00 p.m. ? Last run 1:45 p.m.\nEgg Hunt begins at 2:00 p.m. by age group\nFree games and other activities while you wait\nBring your camera and take photos with the Easter Bunny\nFace painting ? Popcorn ? Snow Cones = $1.00 Each\nPicnic at the Park = Hot Dogs and Drinks will also be on sale
X-ALT-DESC;FMTTYPE=text/html:YOU ARE INVITED to the City of Auburn?s\n2nd Annual SPRINGFEST and EGG HUNT\nJames Shackelford Memorial Park ? Browns Bridge Road\n\nAge 12 and under\n\nSaturday\, April 4\, 2009 ? Raindate April 11th \n\n10\,000 Eggs will be hidden !!!\n\n\nParking at the Old Ingles in Auburn (no vehicles at Park)\nShuttle Buses begin running at 12:00 p.m. ? Last run 1:45 p.m.\nEgg Hunt begins at 2:00 p.m. by age group\nFree games and other activities while you wait\nBring your camera and take photos with the Easter Bunny\nFace painting ? Popcorn ? Snow Cones = $1.00 Each\nPicnic at the Park = Hot Dogs and Drinks will also be on sale     
LOCATION:James Shackelford Memorial Park
UID:e.363.2671
SEQUENCE:3
DTSTAMP:20260426T011345Z
URL:https://barrowcm.365dtm.com/events/details/springfest-egg-hut-04-04-2009-2671
END:VEVENT

END:VCALENDAR
