BEGIN:VCALENDAR
VERSION:2.0
PRODID:-//ChamberMaster//Event Calendar 2.0//EN
METHOD:PUBLISH
X-PUBLISHED-TTL:P3D
REFRESH-INTERVAL:P3D
CALSCALE:GREGORIAN
BEGIN:VEVENT
DTSTART:20150218T130000Z
DTEND:20150218T140000Z
X-MICROSOFT-CDO-ALLDAYEVENT:FALSE
SUMMARY:STAR Banquet
DESCRIPTION:STAR Teacher and Student
X-ALT-DESC;FMTTYPE=text/html:STAR Teacher and Student
LOCATION:Park Place 138 Park Ave Winder\, GA
UID:e.363.5488
SEQUENCE:3
DTSTAMP:20260421T123345Z
URL:https://barrowcm.365dtm.com/events/details/star-banquet-02-18-2015-5488
END:VEVENT

END:VCALENDAR
