BEGIN:VCALENDAR
VERSION:2.0
PRODID:-//ChamberMaster//Event Calendar 2.0//EN
METHOD:PUBLISH
X-PUBLISHED-TTL:P3D
REFRESH-INTERVAL:P3D
CALSCALE:GREGORIAN
BEGIN:VEVENT
DTSTART:20160217T123000Z
DTEND:20160217T140000Z
X-MICROSOFT-CDO-ALLDAYEVENT:FALSE
SUMMARY:Star Banquet Breakfast
DESCRIPTION:Star Student Banquet Breakfast
X-ALT-DESC;FMTTYPE=text/html:Star Student Banquet Breakfast
LOCATION:
UID:e.363.5852
SEQUENCE:3
DTSTAMP:20260420T172351Z
URL:https://barrowcm.365dtm.com/events/details/star-banquet-breakfast-02-17-2016-5852
END:VEVENT

END:VCALENDAR
