BEGIN:VCALENDAR
VERSION:2.0
PRODID:-//ChamberMaster//Event Calendar 2.0//EN
METHOD:PUBLISH
X-PUBLISHED-TTL:P3D
REFRESH-INTERVAL:P3D
CALSCALE:GREGORIAN
BEGIN:VEVENT
DTSTART:20170215T123000Z
DTEND:20170215T140000Z
X-MICROSOFT-CDO-ALLDAYEVENT:FALSE
SUMMARY:STAR Breakfast
DESCRIPTION:STAR Breakfast\n\nWinder-Barrow\n\nApalachee HS\n\nBethlehem Christian
X-ALT-DESC;FMTTYPE=text/html:STAR Breakfast<br />\nWinder-Barrow<br />\nApalachee HS<br />\nBethlehem Christian
LOCATION:Barrow County Leisure Services 175 Second Street\, WInder
UID:e.363.6923
SEQUENCE:3
DTSTAMP:20260419T230832Z
URL:https://barrowcm.365dtm.com/events/details/star-breakfast-6923
END:VEVENT

END:VCALENDAR
