BEGIN:VCALENDAR
VERSION:2.0
PRODID:-//ChamberMaster//Event Calendar 2.0//EN
METHOD:PUBLISH
X-PUBLISHED-TTL:P3D
REFRESH-INTERVAL:P3D
CALSCALE:GREGORIAN
BEGIN:VEVENT
DTSTART:20121014T010000Z
DTEND:20121014T010000Z
X-MICROSOFT-CDO-ALLDAYEVENT:FALSE
SUMMARY:Star Festival
DESCRIPTION:Click here to edit...
X-ALT-DESC;FMTTYPE=text/html:<DIV style="COLOR: gray">Click here to edit...</DIV>
LOCATION:Click here to edit...
UID:e.363.4254
SEQUENCE:3
DTSTAMP:20260423T101914Z
URL:https://barrowcm.365dtm.com/events/details/star-festival-10-13-2012-4254
END:VEVENT

END:VCALENDAR
