BEGIN:VCALENDAR
VERSION:2.0
PRODID:-//ChamberMaster//Event Calendar 2.0//EN
METHOD:PUBLISH
X-PUBLISHED-TTL:P3D
REFRESH-INTERVAL:P3D
CALSCALE:GREGORIAN
BEGIN:VEVENT
DTSTART:20140423T154500Z
DTEND:20140423T170000Z
X-MICROSOFT-CDO-ALLDAYEVENT:FALSE
SUMMARY:State of County
DESCRIPTION:Commissioner Pat Graham will be speaking
X-ALT-DESC;FMTTYPE=text/html:Commissioner Pat Graham will be speaking
LOCATION:
UID:e.363.5411
SEQUENCE:3
DTSTAMP:20260422T034344Z
URL:https://barrowcm.365dtm.com/events/details/state-of-county-04-23-2014-5411
END:VEVENT

END:VCALENDAR
