BEGIN:VCALENDAR
VERSION:2.0
PRODID:-//ChamberMaster//Event Calendar 2.0//EN
METHOD:PUBLISH
X-PUBLISHED-TTL:P3D
REFRESH-INTERVAL:P3D
CALSCALE:GREGORIAN
BEGIN:VEVENT
DTSTART;VALUE=DATE:20120215
DTEND;VALUE=DATE:20120216
TRANSP:TRANSPARENT
X-MICROSOFT-CDO-ALLDAYEVENT:TRUE
SUMMARY:State of the Cities
DESCRIPTION:State of the Cities Lunch
X-ALT-DESC;FMTTYPE=text/html:State of the Cities Lunch
LOCATION:Barrow County Rec Department 175 Second Street\, Winder
UID:e.363.4152
SEQUENCE:3
DTSTAMP:20260423T222754Z
URL:https://barrowcm.365dtm.com/events/details/state-of-the-cities-02-15-2012-4152
END:VEVENT

END:VCALENDAR
