BEGIN:VCALENDAR
VERSION:2.0
PRODID:-//ChamberMaster//Event Calendar 2.0//EN
METHOD:PUBLISH
X-PUBLISHED-TTL:P3D
REFRESH-INTERVAL:P3D
CALSCALE:GREGORIAN
BEGIN:VEVENT
DTSTART:20130219T164500Z
DTEND:20130219T180000Z
X-MICROSOFT-CDO-ALLDAYEVENT:FALSE
SUMMARY:State of the Cities
DESCRIPTION:State of the Cities
X-ALT-DESC;FMTTYPE=text/html:State of the Cities
LOCATION:Barrow County Park & Re. Department
UID:e.363.4786
SEQUENCE:3
DTSTAMP:20260423T042104Z
URL:https://barrowcm.365dtm.com/events/details/state-of-the-cities-02-19-2013-4786
END:VEVENT

END:VCALENDAR
