BEGIN:VCALENDAR
VERSION:2.0
PRODID:-//ChamberMaster//Event Calendar 2.0//EN
METHOD:PUBLISH
X-PUBLISHED-TTL:P3D
REFRESH-INTERVAL:P3D
CALSCALE:GREGORIAN
BEGIN:VEVENT
DTSTART:20140219T164500Z
DTEND:20140219T180000Z
X-MICROSOFT-CDO-ALLDAYEVENT:FALSE
SUMMARY:State of the CIties
DESCRIPTION:
X-ALT-DESC;FMTTYPE=text/html:
LOCATION:
UID:e.363.5378
SEQUENCE:3
DTSTAMP:20260422T062049Z
URL:https://barrowcm.365dtm.com/events/details/state-of-the-cities-02-19-2014-5378
END:VEVENT

END:VCALENDAR
