BEGIN:VCALENDAR
VERSION:2.0
PRODID:-//ChamberMaster//Event Calendar 2.0//EN
METHOD:PUBLISH
X-PUBLISHED-TTL:P3D
REFRESH-INTERVAL:P3D
CALSCALE:GREGORIAN
BEGIN:VEVENT
DTSTART:20160420T154500Z
DTEND:20160420T170000Z
X-MICROSOFT-CDO-ALLDAYEVENT:FALSE
SUMMARY:State of the Communities
DESCRIPTION:State of the Community\n\nBarrow County Board of Commissioners and the Mayors
X-ALT-DESC;FMTTYPE=text/html:State of the Community<br />\nBarrow County Board of Commissioners and the Mayors
LOCATION:Barrow County Park and Rec Dept. 175 2nd Street
UID:e.363.5864
SEQUENCE:3
DTSTAMP:20260420T142515Z
URL:https://barrowcm.365dtm.com/events/details/state-of-the-communities-04-20-2016-5864
END:VEVENT

END:VCALENDAR
