BEGIN:VCALENDAR
VERSION:2.0
PRODID:-//ChamberMaster//Event Calendar 2.0//EN
METHOD:PUBLISH
X-PUBLISHED-TTL:P3D
REFRESH-INTERVAL:P3D
CALSCALE:GREGORIAN
BEGIN:VEVENT
DTSTART:20150401T153000Z
DTEND:20150401T170000Z
X-MICROSOFT-CDO-ALLDAYEVENT:FALSE
SUMMARY:State of the Community
DESCRIPTION:State of the Community\n\nAT & T sponsor - Mayors and Commissioner Speak
X-ALT-DESC;FMTTYPE=text/html:State of the Community<br />\nAT &amp\; T sponsor - Mayors and Commissioner Speak
LOCATION:Barrow County Park and Rec.Department
UID:e.363.5758
SEQUENCE:3
DTSTAMP:20260421T092138Z
URL:https://barrowcm.365dtm.com/events/details/state-of-the-community-04-01-2015-5758
END:VEVENT

END:VCALENDAR
