BEGIN:VCALENDAR
VERSION:2.0
PRODID:-//ChamberMaster//Event Calendar 2.0//EN
METHOD:PUBLISH
X-PUBLISHED-TTL:P3D
REFRESH-INTERVAL:P3D
CALSCALE:GREGORIAN
BEGIN:VEVENT
DTSTART:20130424T154500Z
DTEND:20130424T170000Z
X-MICROSOFT-CDO-ALLDAYEVENT:FALSE
SUMMARY:State of the County
DESCRIPTION:State of the County
X-ALT-DESC;FMTTYPE=text/html:State of the County<br />\n
LOCATION:Barrow County Park & Rec. Dept.
UID:e.363.4833
SEQUENCE:3
DTSTAMP:20260423T010250Z
URL:https://barrowcm.365dtm.com/events/details/state-of-the-county-04-24-2013-4833
END:VEVENT

END:VCALENDAR
