BEGIN:VCALENDAR
VERSION:2.0
PRODID:-//ChamberMaster//Event Calendar 2.0//EN
METHOD:PUBLISH
X-PUBLISHED-TTL:P3D
REFRESH-INTERVAL:P3D
CALSCALE:GREGORIAN
BEGIN:VEVENT
DTSTART:20110315T154500Z
DTEND:20110315T170000Z
X-MICROSOFT-CDO-ALLDAYEVENT:FALSE
SUMMARY:State of the County Luncheon
DESCRIPTION:State of the County Luncheon\n\n	Commisioner Danny Yearwood
X-ALT-DESC;FMTTYPE=text/html:<p>\n	State of the County Luncheon</p>\n<p>\n	Commisioner Danny Yearwood</p>\n
LOCATION:Barrow County Park and Rec. Department 175 Second Street.
UID:e.363.3701
SEQUENCE:3
DTSTAMP:20260424T134724Z
URL:https://barrowcm.365dtm.com/events/details/state-of-the-county-luncheon-03-15-2011-3701
END:VEVENT

END:VCALENDAR
