BEGIN:VCALENDAR
VERSION:2.0
PRODID:-//ChamberMaster//Event Calendar 2.0//EN
METHOD:PUBLISH
X-PUBLISHED-TTL:P3D
REFRESH-INTERVAL:P3D
CALSCALE:GREGORIAN
BEGIN:VEVENT
DTSTART:20150718T140000Z
DTEND:20150718T180000Z
X-MICROSOFT-CDO-ALLDAYEVENT:FALSE
SUMMARY:Statham Car Show
DESCRIPTION:Car Show sponsored by Garage 71 and Grease Inc. Magazine
X-ALT-DESC;FMTTYPE=text/html:Car Show sponsored by Garage 71 and Grease Inc. Magazine
LOCATION:
UID:e.363.5783
SEQUENCE:3
DTSTAMP:20260421T043244Z
URL:https://barrowcm.365dtm.com/events/details/statham-car-show-07-18-2015-5783
END:VEVENT

END:VCALENDAR
